BEGIN:VCALENDAR
VERSION:2.0
PRODID:-//Filipinx Artists of Houston - ECPv5.8.0//NONSGML v1.0//EN
CALSCALE:GREGORIAN
METHOD:PUBLISH
X-WR-CALNAME:Filipinx Artists of Houston
X-ORIGINAL-URL:https://fxahouston.org
X-WR-CALDESC:Events for Filipinx Artists of Houston
BEGIN:VTIMEZONE
TZID:UTC
BEGIN:STANDARD
TZOFFSETFROM:+0000
TZOFFSETTO:+0000
TZNAME:UTC
DTSTART:20200101T000000
END:STANDARD
END:VTIMEZONE
BEGIN:VEVENT
DTSTART;TZID=UTC:20201010T120000
DTEND;TZID=UTC:20201010T170000
DTSTAMP:20220628T182800
CREATED:20200904T025045Z
LAST-MODIFIED:20200904T025045Z
UID:657-1602331200-1602349200@fxahouston.org
SUMMARY:Unicorn Bike Show: Hand-Painted BCycles\, Inspired by Public Art
DESCRIPTION:Join us for a free event in support of local artists and sustainable transportation. Our very own\, Royal Sumikat\, will be featured in this event.\n\n10 beautiful\, hand-painted Houston BCycles (a.k.a. Unicorn Bikes\, because they’re all different!)\, will be juxtaposed with large-scale photography of the public art that inspired their designs.\nList of participating artists:\n– Alex Arzu\n– Caroline Truong\n– Daniel Anguilu\n– Fajar Hassan\n– Jasmine Zelaya\n– Jessica Guerra\n– Jessica Rice\n– Macy Ulbricht\n– Reginald C. Adams\n– Royal Sumikat\n– Skeez181\n\nThis event will be held in Sawyer Yards’ Art Alley during the October 10\, 2020 Second Saturday Art Market.\nThis project was funded by the Houston Arts Alliance\, in coordination with the City of Houston.
URL:https://fxahouston.org/event/unicorn-bike-show-hand-painted-bcycles-inspired-by-public-art/
LOCATION:Sawyer Yards\, 2101 Winter St.\, Houston\, TX\, 77007\, United States
CATEGORIES:Art Show
END:VEVENT
END:VCALENDAR